BEGIN:VCALENDAR
VERSION:2.0
PRODID:-//Edinburgh Alcohol and Drugs Partnership - ECPv5.16.3.1//NONSGML v1.0//EN
CALSCALE:GREGORIAN
METHOD:PUBLISH
X-WR-CALNAME:Edinburgh Alcohol and Drugs Partnership
X-ORIGINAL-URL:https://www.edinburghadp.co.uk
X-WR-CALDESC:Events for Edinburgh Alcohol and Drugs Partnership
BEGIN:VTIMEZONE
TZID:Europe/London
BEGIN:DAYLIGHT
TZOFFSETFROM:+0000
TZOFFSETTO:+0100
TZNAME:BST
DTSTART:20260329T010000
END:DAYLIGHT
BEGIN:STANDARD
TZOFFSETFROM:+0100
TZOFFSETTO:+0000
TZNAME:GMT
DTSTART:20261025T010000
END:STANDARD
END:VTIMEZONE
BEGIN:VEVENT
DTSTART;TZID=Europe/London:20260514T130000
DTEND;TZID=Europe/London:20260514T170000
DTSTAMP:20260423T155037
CREATED:20260422T145712Z
LAST-MODIFIED:20260422T145712Z
UID:5893-1778763600-1778778000@www.edinburghadp.co.uk
SUMMARY:Safer drug consumption facility drop in session
DESCRIPTION:A drop in session for residents of Edinburgh to find out more about the proposed safer drug consumption facility. \nThursday 14 May 2026 from 1-5pm at Waverley Court\, 4 East Market Street\, Edinburgh EH8 8BG
URL:https://www.edinburghadp.co.uk/event/safer-drug-consumption-facility-drop-in-session/
END:VEVENT
END:VCALENDAR